BEGIN:VCALENDAR
VERSION:2.0
PRODID:-//Winston Ridge HOA, Inc. - ECPv6.15.20//NONSGML v1.0//EN
CALSCALE:GREGORIAN
METHOD:PUBLISH
X-WR-CALNAME:Winston Ridge HOA, Inc.
X-ORIGINAL-URL:https://winstonridge.org
X-WR-CALDESC:Events for Winston Ridge HOA, Inc.
REFRESH-INTERVAL;VALUE=DURATION:PT1H
X-Robots-Tag:noindex
X-PUBLISHED-TTL:PT1H
BEGIN:VTIMEZONE
TZID:America/New_York
BEGIN:DAYLIGHT
TZOFFSETFROM:-0500
TZOFFSETTO:-0400
TZNAME:EDT
DTSTART:20220313T070000
END:DAYLIGHT
BEGIN:STANDARD
TZOFFSETFROM:-0400
TZOFFSETTO:-0500
TZNAME:EST
DTSTART:20221106T060000
END:STANDARD
BEGIN:DAYLIGHT
TZOFFSETFROM:-0500
TZOFFSETTO:-0400
TZNAME:EDT
DTSTART:20230312T070000
END:DAYLIGHT
BEGIN:STANDARD
TZOFFSETFROM:-0400
TZOFFSETTO:-0500
TZNAME:EST
DTSTART:20231105T060000
END:STANDARD
BEGIN:DAYLIGHT
TZOFFSETFROM:-0500
TZOFFSETTO:-0400
TZNAME:EDT
DTSTART:20240310T070000
END:DAYLIGHT
BEGIN:STANDARD
TZOFFSETFROM:-0400
TZOFFSETTO:-0500
TZNAME:EST
DTSTART:20241103T060000
END:STANDARD
END:VTIMEZONE
BEGIN:VEVENT
DTSTART;TZID=America/New_York:20230906T170000
DTEND;TZID=America/New_York:20230906T193000
DTSTAMP:20260419T100220
CREATED:20230831T153031Z
LAST-MODIFIED:20230906T174917Z
UID:166-1694019600-1694028600@winstonridge.org
SUMMARY:Southern Fried Lumpia Co. Food Truck
DESCRIPTION:This week “no cook Wednesday” will feature the Southern Fried Lumpia Co. food truck. Specializing in Lumpia & down home Filipino cookin’! \nMenu -> https://www.southernfriedlumpia.com/meet-the-eats
URL:https://winstonridge.org/event/southern-fried-lumpia-co-food-truck/
LOCATION:Plantation Pool Greenspace\, 104 Plantation Drive\, Youngsville\, NC\, 27596\, United States
CATEGORIES:food truck
ATTACH;FMTTYPE=image/png:https://winstonridge.org/wp-content/uploads/2023/08/Mfjw52mxkByASMVgoVAmAP_w1.png
END:VEVENT
END:VCALENDAR