BEGIN:VCALENDAR
VERSION:2.0
PRODID:-//Winston Ridge HOA, Inc. - ECPv6.15.20//NONSGML v1.0//EN
CALSCALE:GREGORIAN
METHOD:PUBLISH
X-ORIGINAL-URL:https://winstonridge.org
X-WR-CALDESC:Events for Winston Ridge HOA, Inc.
REFRESH-INTERVAL;VALUE=DURATION:PT1H
X-Robots-Tag:noindex
X-PUBLISHED-TTL:PT1H
BEGIN:VTIMEZONE
TZID:America/New_York
BEGIN:DAYLIGHT
TZOFFSETFROM:-0500
TZOFFSETTO:-0400
TZNAME:EDT
DTSTART:20220313T070000
END:DAYLIGHT
BEGIN:STANDARD
TZOFFSETFROM:-0400
TZOFFSETTO:-0500
TZNAME:EST
DTSTART:20221106T060000
END:STANDARD
BEGIN:DAYLIGHT
TZOFFSETFROM:-0500
TZOFFSETTO:-0400
TZNAME:EDT
DTSTART:20230312T070000
END:DAYLIGHT
BEGIN:STANDARD
TZOFFSETFROM:-0400
TZOFFSETTO:-0500
TZNAME:EST
DTSTART:20231105T060000
END:STANDARD
BEGIN:DAYLIGHT
TZOFFSETFROM:-0500
TZOFFSETTO:-0400
TZNAME:EDT
DTSTART:20240310T070000
END:DAYLIGHT
BEGIN:STANDARD
TZOFFSETFROM:-0400
TZOFFSETTO:-0500
TZNAME:EST
DTSTART:20241103T060000
END:STANDARD
END:VTIMEZONE
BEGIN:VEVENT
DTSTART;TZID=America/New_York:20230911T090000
DTEND;TZID=America/New_York:20230911T100000
DTSTAMP:20260423T043750
CREATED:20230829T212522Z
LAST-MODIFIED:20230830T184833Z
UID:22-1694422800-1694426400@winstonridge.org
SUMMARY:Winston Ridge 9/11 Commemoration Event
DESCRIPTION:The Veteran’s Group of Winston Ridge invites veterans and their families\, first responders and their families\, as well as anyone interested in attending the first 9/11 Commemoration Event.  The event will begin at 0900 (9:00 AM) on Monday\, September 11\, at the swimming pool flag pole for a brief introduction\, flag-lowering to half-mast\, as well as remarks from veterans.  After the flag lowering ceremony\, everyone is invited to partake of light refreshments (donuts\, bagels\, fruit and vegetable trays) in the pool house.  The event will end at 1000 (10:00 AM).  The event is designed as both a commemoration of 9/11 along with a thank-you to the first responders and veterans for their continued service.
URL:https://winstonridge.org/event/winston-ridge-9-11-commemoration-event/
LOCATION:Plantation Pool House\, 104 Plantation Dr\, Youngsville\, NC\, 27696\, United States
ATTACH;FMTTYPE=image/jpeg:https://winstonridge.org/wp-content/uploads/2023/08/SKJones-20100911-9-11-Lights-Large.jpg
ORGANIZER;CN="Veterans Group":MAILTO:grectech@att.net
END:VEVENT
END:VCALENDAR