BEGIN:VCALENDAR
VERSION:2.0
PRODID:-//Winston Ridge HOA, Inc. - ECPv6.15.20//NONSGML v1.0//EN
CALSCALE:GREGORIAN
METHOD:PUBLISH
X-WR-CALNAME:Winston Ridge HOA, Inc.
X-ORIGINAL-URL:https://winstonridge.org
X-WR-CALDESC:Events for Winston Ridge HOA, Inc.
REFRESH-INTERVAL;VALUE=DURATION:PT1H
X-Robots-Tag:noindex
X-PUBLISHED-TTL:PT1H
BEGIN:VTIMEZONE
TZID:America/New_York
BEGIN:DAYLIGHT
TZOFFSETFROM:-0500
TZOFFSETTO:-0400
TZNAME:EDT
DTSTART:20220313T070000
END:DAYLIGHT
BEGIN:STANDARD
TZOFFSETFROM:-0400
TZOFFSETTO:-0500
TZNAME:EST
DTSTART:20221106T060000
END:STANDARD
BEGIN:DAYLIGHT
TZOFFSETFROM:-0500
TZOFFSETTO:-0400
TZNAME:EDT
DTSTART:20230312T070000
END:DAYLIGHT
BEGIN:STANDARD
TZOFFSETFROM:-0400
TZOFFSETTO:-0500
TZNAME:EST
DTSTART:20231105T060000
END:STANDARD
BEGIN:DAYLIGHT
TZOFFSETFROM:-0500
TZOFFSETTO:-0400
TZNAME:EDT
DTSTART:20240310T070000
END:DAYLIGHT
BEGIN:STANDARD
TZOFFSETFROM:-0400
TZOFFSETTO:-0500
TZNAME:EST
DTSTART:20241103T060000
END:STANDARD
END:VTIMEZONE
BEGIN:VEVENT
DTSTART;VALUE=DATE:20230925
DTEND;VALUE=DATE:20231002
DTSTAMP:20260423T060323
CREATED:20230921T201402Z
LAST-MODIFIED:20230922T143842Z
UID:681-1695600000-1696204799@winstonridge.org
SUMMARY:Community Food Drive
DESCRIPTION:Please help support the Tri-Area Ministry Food Pantry! They have begun collecting sides for Thanksgiving and are specifically requesting box or bag mashed potatoes/stuffing\, biscuit or corn muffin mix\, and gravy packets. Of course\, STAPLE items such as cereal\, peanut butter\, jelly\, canned fruit/veggies/soup/tuna/chicken; rice & pasta are always needed. PLEASE\, NO GLASS containers. \n\n\n\nYou all have been very generous in the past\, and we hope you will be once again. To make things as convenient as possible\, the Social (Service Sub) Committee is offering three drop-off locations within the community. A bin will be on the front porch of the following homes from Sep 25th thru Oct 1st: \n\n\n\n\n117 Plantation Drive\n\n\n\n15 Meadowrue Lane\n\n\n\n169 Scarlet Bell Drive\n\n\n\n\nIf you’d like to donate but need someone to pick-up from your porch\, please contact Donna McCallum via FB Messenger and she will arrange for pick-up. \n\n\n\nThank you ALL very much in advance!
URL:https://winstonridge.org/event/community-food-drive/
LOCATION:NC
CATEGORIES:event
ATTACH;FMTTYPE=image/jpeg:https://winstonridge.org/wp-content/uploads/2023/09/fooddrive.jpg
END:VEVENT
BEGIN:VEVENT
DTSTART;TZID=America/New_York:20230927T170000
DTEND;TZID=America/New_York:20230927T193000
DTSTAMP:20260423T060323
CREATED:20230901T193503Z
LAST-MODIFIED:20230922T155833Z
UID:238-1695834000-1695843000@winstonridge.org
SUMMARY:No Cook Wednesday: Doherty's Paddy Wagon
DESCRIPTION:You can go to their website to see their menu and place your order if you’d like. Follow Instructions below. So come sit by the pool play some bocce ball throw some horseshoes and enjoy this lovely fall weather. I noticed some families enjoying their dinner at the new picnic tables this week! I love this neighborhood!!\n\n\nWebsite: bit.ly/PaddyWagonPickUp\n\n\n\n1. Click the green “Order Ahead” button listed under your stop\n\n\n2. Select the dishes you’d like to order\, adding them to the cart\n\n\n3. Click the green “View Cart” button at the bottom when you’re done\n\n\n4. Review your order\, select a pickup time in the dropdown menu and click the green “Checkout” button\n\n\n5. Add your payment info\, name and phone number you want to be notified at when your order is ready – and you’re done!
URL:https://winstonridge.org/event/food-truck-dohertys-paddy-wagon/
LOCATION:Plantation Pool Greenspace\, 104 Plantation Drive\, Youngsville\, NC\, 27596\, United States
CATEGORIES:food truck
ATTACH;FMTTYPE=image/jpeg:https://winstonridge.org/wp-content/uploads/2023/09/Paddy-wagon.jpg
END:VEVENT
END:VCALENDAR