BEGIN:VCALENDAR
VERSION:2.0
PRODID:-//Winston Ridge HOA, Inc. - ECPv6.15.20//NONSGML v1.0//EN
CALSCALE:GREGORIAN
METHOD:PUBLISH
X-ORIGINAL-URL:https://winstonridge.org
X-WR-CALDESC:Events for Winston Ridge HOA, Inc.
REFRESH-INTERVAL;VALUE=DURATION:PT1H
X-Robots-Tag:noindex
X-PUBLISHED-TTL:PT1H
BEGIN:VTIMEZONE
TZID:America/New_York
BEGIN:DAYLIGHT
TZOFFSETFROM:-0500
TZOFFSETTO:-0400
TZNAME:EDT
DTSTART:20220313T070000
END:DAYLIGHT
BEGIN:STANDARD
TZOFFSETFROM:-0400
TZOFFSETTO:-0500
TZNAME:EST
DTSTART:20221106T060000
END:STANDARD
BEGIN:DAYLIGHT
TZOFFSETFROM:-0500
TZOFFSETTO:-0400
TZNAME:EDT
DTSTART:20230312T070000
END:DAYLIGHT
BEGIN:STANDARD
TZOFFSETFROM:-0400
TZOFFSETTO:-0500
TZNAME:EST
DTSTART:20231105T060000
END:STANDARD
BEGIN:DAYLIGHT
TZOFFSETFROM:-0500
TZOFFSETTO:-0400
TZNAME:EDT
DTSTART:20240310T070000
END:DAYLIGHT
BEGIN:STANDARD
TZOFFSETFROM:-0400
TZOFFSETTO:-0500
TZNAME:EST
DTSTART:20241103T060000
END:STANDARD
END:VTIMEZONE
BEGIN:VEVENT
DTSTART;TZID=America/New_York:20231007T100000
DTEND;TZID=America/New_York:20231007T130000
DTSTAMP:20260423T071954
CREATED:20231006T213535Z
LAST-MODIFIED:20231006T213643Z
UID:890-1696672800-1696683600@winstonridge.org
SUMMARY:Wake Forrest: Renaissance Centre to host Saturday's Community Celebration of the Arts
DESCRIPTION:The Wake Forest Public Art Commission (PAC)\, Parks\, Recreation & Cultural Resources Department\, and ARTS Wake Forest are inviting residents to a special Community Celebration of the Arts this Saturday\, Oct. 7\, from 10 a.m. to 1 p.m. at the Wake Forest Renaissance Centre\, 405 S. Brooks St. \nFree and open to the public\, this family-friendly event will include food\, music\, and a variety of arts activities for children of all ages.
URL:https://winstonridge.org/event/wake-forrest-renaissance-centre-to-host-saturdays-community-celebration-of-the-arts/
LOCATION:Wake Forest Renaissance Centre\, 405 S. Brooks St\, Wake Forrest\, NC\, United States
CATEGORIES:community,event,news
ATTACH;FMTTYPE=image/jpeg:https://winstonridge.org/wp-content/uploads/2023/10/2021_fb_event_community_celebration_of_the_arts_845x4751.jpg
END:VEVENT
END:VCALENDAR