BEGIN:VCALENDAR
VERSION:2.0
PRODID:-//Winston Ridge HOA, Inc. - ECPv6.15.20//NONSGML v1.0//EN
CALSCALE:GREGORIAN
METHOD:PUBLISH
X-ORIGINAL-URL:https://winstonridge.org
X-WR-CALDESC:Events for Winston Ridge HOA, Inc.
REFRESH-INTERVAL;VALUE=DURATION:PT1H
X-Robots-Tag:noindex
X-PUBLISHED-TTL:PT1H
BEGIN:VTIMEZONE
TZID:America/New_York
BEGIN:DAYLIGHT
TZOFFSETFROM:-0500
TZOFFSETTO:-0400
TZNAME:EDT
DTSTART:20220313T070000
END:DAYLIGHT
BEGIN:STANDARD
TZOFFSETFROM:-0400
TZOFFSETTO:-0500
TZNAME:EST
DTSTART:20221106T060000
END:STANDARD
BEGIN:DAYLIGHT
TZOFFSETFROM:-0500
TZOFFSETTO:-0400
TZNAME:EDT
DTSTART:20230312T070000
END:DAYLIGHT
BEGIN:STANDARD
TZOFFSETFROM:-0400
TZOFFSETTO:-0500
TZNAME:EST
DTSTART:20231105T060000
END:STANDARD
BEGIN:DAYLIGHT
TZOFFSETFROM:-0500
TZOFFSETTO:-0400
TZNAME:EDT
DTSTART:20240310T070000
END:DAYLIGHT
BEGIN:STANDARD
TZOFFSETFROM:-0400
TZOFFSETTO:-0500
TZNAME:EST
DTSTART:20241103T060000
END:STANDARD
END:VTIMEZONE
BEGIN:VEVENT
DTSTART;VALUE=DATE:20231015
DTEND;VALUE=DATE:20231101
DTSTAMP:20260423T061223
CREATED:20230830T142436Z
LAST-MODIFIED:20231031T001658Z
UID:78-1697328000-1698796799@winstonridge.org
SUMMARY:3rd Annual Halloween Decorating Contest Voting
DESCRIPTION:Boo! There will be a winner for each phase in the community! Voting begins Oct 15th and runs through the 31st
URL:https://winstonridge.org/event/kicking-off-the-3rd-annual-halloween-decorating-contest/
LOCATION:Winston Ridge Community\, 104 Plantation Drive\, Youngsville\, NC\, 27596\, United States
CATEGORIES:community,event
ATTACH;FMTTYPE=image/jpeg:https://winstonridge.org/wp-content/uploads/2023/08/jackolanterns-1.jpg
END:VEVENT
BEGIN:VEVENT
DTSTART;TZID=America/New_York:20231026T163000
DTEND;TZID=America/New_York:20231026T190000
DTSTAMP:20260423T061223
CREATED:20231013T154812Z
LAST-MODIFIED:20231013T154812Z
UID:1024-1698337800-1698346800@winstonridge.org
SUMMARY:2023 Halloween Boo Bash
DESCRIPTION:The Wake Forest Parks\, Recreation & Cultural Resources Department will host the 2023 Halloween Boo Bash Thursday\, Oct. 26\, from 4:30-7 p.m. at E. Carroll Joyner Park\, 701 Harris Road. \nThe Halloween Boo Bash is a free\, family-oriented festival for children ages 12 and younger. This year’s festivities will include a variety of ghostly games and activities\, and free pumpkin giveaways – while supplies last. Costumes are optional\, but best costumes may be featured on the Wake Forrest town website and social media pages. \nThe following food and dessert trucks will be onsite during this year’s Boo Bash: Lumpy’s\, Crazy Beans Coffee\, Crumbstruction\, Mamma Churros\, Kettle Corn\, and Smith’s Smokehouse & Smoothies.
URL:https://winstonridge.org/event/2023-halloween-boo-bash/
LOCATION:E. Carroll Joyner Park\, 701 Harris Rd\, Wake Forrest\, NC\, United States
CATEGORIES:community,event,food truck,Wake Forrest
ATTACH;FMTTYPE=image/jpeg:https://winstonridge.org/wp-content/uploads/2023/10/2023-boo-bash.jpg
END:VEVENT
END:VCALENDAR