BEGIN:VCALENDAR
VERSION:2.0
PRODID:-//Winston Ridge HOA, Inc. - ECPv6.15.20//NONSGML v1.0//EN
CALSCALE:GREGORIAN
METHOD:PUBLISH
X-WR-CALNAME:Winston Ridge HOA, Inc.
X-ORIGINAL-URL:https://winstonridge.org
X-WR-CALDESC:Events for Winston Ridge HOA, Inc.
REFRESH-INTERVAL;VALUE=DURATION:PT1H
X-Robots-Tag:noindex
X-PUBLISHED-TTL:PT1H
BEGIN:VTIMEZONE
TZID:America/New_York
BEGIN:DAYLIGHT
TZOFFSETFROM:-0500
TZOFFSETTO:-0400
TZNAME:EDT
DTSTART:20220313T070000
END:DAYLIGHT
BEGIN:STANDARD
TZOFFSETFROM:-0400
TZOFFSETTO:-0500
TZNAME:EST
DTSTART:20221106T060000
END:STANDARD
BEGIN:DAYLIGHT
TZOFFSETFROM:-0500
TZOFFSETTO:-0400
TZNAME:EDT
DTSTART:20230312T070000
END:DAYLIGHT
BEGIN:STANDARD
TZOFFSETFROM:-0400
TZOFFSETTO:-0500
TZNAME:EST
DTSTART:20231105T060000
END:STANDARD
BEGIN:DAYLIGHT
TZOFFSETFROM:-0500
TZOFFSETTO:-0400
TZNAME:EDT
DTSTART:20240310T070000
END:DAYLIGHT
BEGIN:STANDARD
TZOFFSETFROM:-0400
TZOFFSETTO:-0500
TZNAME:EST
DTSTART:20241103T060000
END:STANDARD
END:VTIMEZONE
BEGIN:VEVENT
DTSTART;VALUE=DATE:20231201
DTEND;VALUE=DATE:20231202
DTSTAMP:20260423T044716
CREATED:20230830T143020Z
LAST-MODIFIED:20231124T203727Z
UID:95-1701388800-1701475199@winstonridge.org
SUMMARY:Kicking off the 3rd annual Holiday decorating contest
DESCRIPTION:Be festive and bright! There will be a winner for each phase in the community! Voting ends December 22nd. \nClick here to vote for your favorite in each group.
URL:https://winstonridge.org/event/kicking-off-the-3rd-annual-holiday-decorating-contest/
LOCATION:Winston Ridge Community\, 104 Plantation Drive\, Youngsville\, NC\, 27596\, United States
ATTACH;FMTTYPE=image/jpeg:https://winstonridge.org/wp-content/uploads/2023/08/tumblr_mcdfi1KM9H1qh83vro1_500-1.jpg
END:VEVENT
BEGIN:VEVENT
DTSTART;TZID=America/New_York:20231201T170000
DTEND;TZID=America/New_York:20231201T200000
DTSTAMP:20260423T044716
CREATED:20231025T194310Z
LAST-MODIFIED:20231025T194310Z
UID:1231-1701450000-1701460800@winstonridge.org
SUMMARY:Franklinton Christmas Market
DESCRIPTION:
URL:https://winstonridge.org/event/franklinton-christmas-market/
LOCATION:Franklinton\, Franklinton\, NC\, United States
CATEGORIES:community,event,Franklinton
END:VEVENT
BEGIN:VEVENT
DTSTART;TZID=America/New_York:20231201T183000
DTEND;TZID=America/New_York:20231201T203000
DTSTAMP:20260423T044716
CREATED:20231120T224920Z
LAST-MODIFIED:20231121T161218Z
UID:1608-1701455400-1701462600@winstonridge.org
SUMMARY:Monthly Social Committee Meeting
DESCRIPTION:Monthly Social Committee meeting to discuss plans for 2024. This meeting is specifically to get the Kids Activities rolling\, discussion of plans for Bingo and new ideas. \nYou may contact Pat Mikolay at pmikolay@nc.rr.com
URL:https://winstonridge.org/event/social-committee-meeting/
LOCATION:Plantation Pool House\, 104 Plantation Dr\, Youngsville\, NC\, 27696\, United States
CATEGORIES:community,meeting
END:VEVENT
END:VCALENDAR