BEGIN:VCALENDAR
VERSION:2.0
PRODID:-//Winston Ridge HOA, Inc. - ECPv6.15.20//NONSGML v1.0//EN
CALSCALE:GREGORIAN
METHOD:PUBLISH
X-ORIGINAL-URL:https://winstonridge.org
X-WR-CALDESC:Events for Winston Ridge HOA, Inc.
REFRESH-INTERVAL;VALUE=DURATION:PT1H
X-Robots-Tag:noindex
X-PUBLISHED-TTL:PT1H
BEGIN:VTIMEZONE
TZID:America/New_York
BEGIN:DAYLIGHT
TZOFFSETFROM:-0500
TZOFFSETTO:-0400
TZNAME:EDT
DTSTART:20220313T070000
END:DAYLIGHT
BEGIN:STANDARD
TZOFFSETFROM:-0400
TZOFFSETTO:-0500
TZNAME:EST
DTSTART:20221106T060000
END:STANDARD
BEGIN:DAYLIGHT
TZOFFSETFROM:-0500
TZOFFSETTO:-0400
TZNAME:EDT
DTSTART:20230312T070000
END:DAYLIGHT
BEGIN:STANDARD
TZOFFSETFROM:-0400
TZOFFSETTO:-0500
TZNAME:EST
DTSTART:20231105T060000
END:STANDARD
BEGIN:DAYLIGHT
TZOFFSETFROM:-0500
TZOFFSETTO:-0400
TZNAME:EDT
DTSTART:20240310T070000
END:DAYLIGHT
BEGIN:STANDARD
TZOFFSETFROM:-0400
TZOFFSETTO:-0500
TZNAME:EST
DTSTART:20241103T060000
END:STANDARD
END:VTIMEZONE
BEGIN:VEVENT
DTSTART;TZID=America/New_York:20231207T190000
DTEND;TZID=America/New_York:20231207T203000
DTSTAMP:20260423T060440
CREATED:20231104T020107Z
LAST-MODIFIED:20231205T185631Z
UID:1469-1701975600-1701981000@winstonridge.org
SUMMARY:Garden Club Meeting
DESCRIPTION:Program will be about HOUSEPLANTS. Presented by Granville Early College Science and Plant Club.
URL:https://winstonridge.org/event/garden-club-meeting-3/
LOCATION:Plantation Pool House\, 104 Plantation Dr\, Youngsville\, NC\, 27696\, United States
CATEGORIES:meeting
END:VEVENT
BEGIN:VEVENT
DTSTART;TZID=America/New_York:20231207T190000
DTEND;TZID=America/New_York:20231207T210000
DTSTAMP:20260423T060440
CREATED:20231025T194537Z
LAST-MODIFIED:20231025T194537Z
UID:1233-1701975600-1701982800@winstonridge.org
SUMMARY:Franklinton Christmas Parade
DESCRIPTION:
URL:https://winstonridge.org/event/franklinton-christmas-parade/
LOCATION:Franklinton\, Franklinton\, NC\, United States
CATEGORIES:community,event,Franklinton
END:VEVENT
END:VCALENDAR