BEGIN:VCALENDAR
VERSION:2.0
PRODID:-//Winston Ridge HOA, Inc. - ECPv6.15.20//NONSGML v1.0//EN
CALSCALE:GREGORIAN
METHOD:PUBLISH
X-ORIGINAL-URL:https://winstonridge.org
X-WR-CALDESC:Events for Winston Ridge HOA, Inc.
REFRESH-INTERVAL;VALUE=DURATION:PT1H
X-Robots-Tag:noindex
X-PUBLISHED-TTL:PT1H
BEGIN:VTIMEZONE
TZID:America/New_York
BEGIN:DAYLIGHT
TZOFFSETFROM:-0500
TZOFFSETTO:-0400
TZNAME:EDT
DTSTART:20220313T070000
END:DAYLIGHT
BEGIN:STANDARD
TZOFFSETFROM:-0400
TZOFFSETTO:-0500
TZNAME:EST
DTSTART:20221106T060000
END:STANDARD
BEGIN:DAYLIGHT
TZOFFSETFROM:-0500
TZOFFSETTO:-0400
TZNAME:EDT
DTSTART:20230312T070000
END:DAYLIGHT
BEGIN:STANDARD
TZOFFSETFROM:-0400
TZOFFSETTO:-0500
TZNAME:EST
DTSTART:20231105T060000
END:STANDARD
BEGIN:DAYLIGHT
TZOFFSETFROM:-0500
TZOFFSETTO:-0400
TZNAME:EDT
DTSTART:20240310T070000
END:DAYLIGHT
BEGIN:STANDARD
TZOFFSETFROM:-0400
TZOFFSETTO:-0500
TZNAME:EST
DTSTART:20241103T060000
END:STANDARD
END:VTIMEZONE
BEGIN:VEVENT
DTSTART;TZID=America/New_York:20231217T153000
DTEND;TZID=America/New_York:20231217T173000
DTSTAMP:20260423T060359
CREATED:20230830T143200Z
LAST-MODIFIED:20231219T144248Z
UID:97-1702827000-1702834200@winstonridge.org
SUMMARY:2023 Winter Holiday Celebration!!
DESCRIPTION:Parade: Line up starts at 3:00 pm with the parade starting at 3:30 pm. Starts and ends in the Plantation pool parking lot. Decorate your golf carts\, bikes\, scooter\, yourself and spread holiday cheer throughout the neighborhood. Remember that no cars will be allowed in the parade but you can have a golf cart that is street legal and properly insured.  Cancelled due to extreme weather forecast \nCookies: ~3:30 pm (after the parade.) RSVP below only if you are bringing 3-4 dozen cookies to share/exchange. \nSanta: 4:00 pm  Come visit Santa at the Plantation pool house! Bring your camera\, sit on Santa’s lap\, and mail your letter to the North Pole! \nIf you have any question please reach out to to Karen Paolotto \nSee you along the parade route! \n2023 Holiday Parade Route\n 
URL:https://winstonridge.org/event/holiday-fun/
LOCATION:Plantation Pool House\, 104 Plantation Dr\, Youngsville\, NC\, 27696\, United States
CATEGORIES:community,community,event,Social Event
ATTACH;FMTTYPE=image/gif:https://winstonridge.org/wp-content/uploads/2023/08/tumblr_lvyuzjJtnN1qabj53o1_r1_400.gif
END:VEVENT
END:VCALENDAR