BEGIN:VCALENDAR
VERSION:2.0
PRODID:-//Winston Ridge HOA, Inc. - ECPv6.15.20//NONSGML v1.0//EN
CALSCALE:GREGORIAN
METHOD:PUBLISH
X-ORIGINAL-URL:https://winstonridge.org
X-WR-CALDESC:Events for Winston Ridge HOA, Inc.
REFRESH-INTERVAL;VALUE=DURATION:PT1H
X-Robots-Tag:noindex
X-PUBLISHED-TTL:PT1H
BEGIN:VTIMEZONE
TZID:America/New_York
BEGIN:DAYLIGHT
TZOFFSETFROM:-0500
TZOFFSETTO:-0400
TZNAME:EDT
DTSTART:20220313T070000
END:DAYLIGHT
BEGIN:STANDARD
TZOFFSETFROM:-0400
TZOFFSETTO:-0500
TZNAME:EST
DTSTART:20221106T060000
END:STANDARD
BEGIN:DAYLIGHT
TZOFFSETFROM:-0500
TZOFFSETTO:-0400
TZNAME:EDT
DTSTART:20230312T070000
END:DAYLIGHT
BEGIN:STANDARD
TZOFFSETFROM:-0400
TZOFFSETTO:-0500
TZNAME:EST
DTSTART:20231105T060000
END:STANDARD
BEGIN:DAYLIGHT
TZOFFSETFROM:-0500
TZOFFSETTO:-0400
TZNAME:EDT
DTSTART:20240310T070000
END:DAYLIGHT
BEGIN:STANDARD
TZOFFSETFROM:-0400
TZOFFSETTO:-0500
TZNAME:EST
DTSTART:20241103T060000
END:STANDARD
BEGIN:DAYLIGHT
TZOFFSETFROM:-0500
TZOFFSETTO:-0400
TZNAME:EDT
DTSTART:20250309T070000
END:DAYLIGHT
BEGIN:STANDARD
TZOFFSETFROM:-0400
TZOFFSETTO:-0500
TZNAME:EST
DTSTART:20251102T060000
END:STANDARD
BEGIN:DAYLIGHT
TZOFFSETFROM:-0500
TZOFFSETTO:-0400
TZNAME:EDT
DTSTART:20260308T070000
END:DAYLIGHT
BEGIN:STANDARD
TZOFFSETFROM:-0400
TZOFFSETTO:-0500
TZNAME:EST
DTSTART:20261101T060000
END:STANDARD
END:VTIMEZONE
BEGIN:VEVENT
DTSTART;TZID=America/New_York:20250421T100000
DTEND;TZID=America/New_York:20250421T120000
DTSTAMP:20260421T061910
CREATED:20250329T013103Z
LAST-MODIFIED:20250329T013103Z
UID:17919-1745229600-1745236800@winstonridge.org
SUMMARY:Pool Committee preseason meeting
DESCRIPTION:The pool committee will be meeting with In A Minute Cleaning Service on April 21 at 10:00 for our preseason general meeting.  Committee members\, please mark your calendars.
URL:https://winstonridge.org/event/pool-committee-preseason-meeting/
LOCATION:Plantation Pool House\, 104 Plantation Dr\, Youngsville\, NC\, 27696\, United States
CATEGORIES:Committee Meeting,Pools
END:VEVENT
BEGIN:VEVENT
DTSTART;TZID=America/New_York:20250218T090000
DTEND;TZID=America/New_York:20250218T103000
DTSTAMP:20260421T061910
CREATED:20250214T145553Z
LAST-MODIFIED:20250214T145553Z
UID:14304-1739869200-1739874600@winstonridge.org
SUMMARY:Pool Committee Meeting
DESCRIPTION:Agenda:\n\nDuke Power Project Manager – Re:  Parking Lot Lighting\n2025 Pool Season Dates\nFranklin County Pool Inspection Paperwork and Dates (have asked Dominic to join us)\nCPI new deterrent feature
URL:https://winstonridge.org/event/pool-committee-meeting-3/
LOCATION:Plantation Pool House\, 104 Plantation Dr\, Youngsville\, NC\, 27696\, United States
CATEGORIES:Committee Meeting,meeting,Pools
ATTACH;FMTTYPE=image/jpeg:https://winstonridge.org/wp-content/uploads/2024/07/20240712_140201-scaled.jpg
END:VEVENT
BEGIN:VEVENT
DTSTART;TZID=America/New_York:20240827T100000
DTEND;TZID=America/New_York:20240827T120000
DTSTAMP:20260421T061910
CREATED:20240822T173930Z
LAST-MODIFIED:20240822T173930Z
UID:6760-1724752800-1724760000@winstonridge.org
SUMMARY:Pool Committee Meeting
DESCRIPTION:
URL:https://winstonridge.org/event/pool-committee-meeting-2/
LOCATION:Plantation Pool House\, 104 Plantation Dr\, Youngsville\, NC\, 27696\, United States
CATEGORIES:Committee Meeting,Pools
END:VEVENT
BEGIN:VEVENT
DTSTART;TZID=America/New_York:20240802T070000
DTEND;TZID=America/New_York:20240802T200000
DTSTAMP:20260421T061910
CREATED:20240731T193836Z
LAST-MODIFIED:20240731T193836Z
UID:6140-1722582000-1722628800@winstonridge.org
SUMMARY:Landscaping Committee Meeting
DESCRIPTION:
URL:https://winstonridge.org/event/landscaping-committee-meeting-2/
LOCATION:Plantation Pool House\, 104 Plantation Dr\, Youngsville\, NC\, 27696\, United States
CATEGORIES:Committee Meeting,community,event
END:VEVENT
BEGIN:VEVENT
DTSTART;TZID=America/New_York:20240520T190000
DTEND;TZID=America/New_York:20240520T200000
DTSTAMP:20260421T061910
CREATED:20240519T195821Z
LAST-MODIFIED:20240519T195821Z
UID:4503-1716231600-1716235200@winstonridge.org
SUMMARY:Landscaping Commitee Meeting
DESCRIPTION:
URL:https://winstonridge.org/event/landscaping-commitee-meeting-2/
LOCATION:Plantation Pool House\, 104 Plantation Dr\, Youngsville\, NC\, 27696\, United States
CATEGORIES:Committee Meeting
END:VEVENT
BEGIN:VEVENT
DTSTART;TZID=America/New_York:20240418T100000
DTEND;TZID=America/New_York:20240418T120000
DTSTAMP:20260421T061910
CREATED:20240315T195800Z
LAST-MODIFIED:20240315T195800Z
UID:2033-1713434400-1713441600@winstonridge.org
SUMMARY:Pool Committee Meeting
DESCRIPTION:
URL:https://winstonridge.org/event/pool-committee-meeting/
LOCATION:Plantation Pool House\, 104 Plantation Dr\, Youngsville\, NC\, 27696\, United States
CATEGORIES:Committee Meeting,meeting
ATTACH;FMTTYPE=image/png:https://winstonridge.org/wp-content/uploads/2023/08/P-Pool1-1.png
END:VEVENT
BEGIN:VEVENT
DTSTART;TZID=America/New_York:20240313T183000
DTEND;TZID=America/New_York:20240313T200000
DTSTAMP:20260421T061910
CREATED:20240311T154303Z
LAST-MODIFIED:20240311T155349Z
UID:2014-1710354600-1710360000@winstonridge.org
SUMMARY:Landscaping Committee Meeting
DESCRIPTION:
URL:https://winstonridge.org/event/landscaping-commitee-meeting/
LOCATION:Plantation Pool House\, 104 Plantation Dr\, Youngsville\, NC\, 27696\, United States
CATEGORIES:Committee Meeting,news
END:VEVENT
BEGIN:VEVENT
DTSTART;TZID=America/New_York:20240110T130000
DTEND;TZID=America/New_York:20240110T150000
DTSTAMP:20260421T061910
CREATED:20231209T170619Z
LAST-MODIFIED:20231209T170619Z
UID:1675-1704891600-1704898800@winstonridge.org
SUMMARY:Social Committee Meeting
DESCRIPTION:Monthly Social Committee planning meeting
URL:https://winstonridge.org/event/social-committee-meeting-2/
LOCATION:Plantation Pool House\, 104 Plantation Dr\, Youngsville\, NC\, 27696\, United States
CATEGORIES:Committee Meeting
END:VEVENT
BEGIN:VEVENT
DTSTART;TZID=America/New_York:20240103T183000
DTEND;TZID=America/New_York:20240103T200000
DTSTAMP:20260421T061910
CREATED:20240102T234258Z
LAST-MODIFIED:20240104T032338Z
UID:1832-1704306600-1704312000@winstonridge.org
SUMMARY:Landscaping Committee Meeting
DESCRIPTION:
URL:https://winstonridge.org/event/landscaping-committee-meeting/
LOCATION:Plantation Pool House\, 104 Plantation Dr\, Youngsville\, NC\, 27696\, United States
CATEGORIES:Committee Meeting,meeting
END:VEVENT
BEGIN:VEVENT
DTSTART;TZID=America/New_York:20230918T190000
DTEND;TZID=America/New_York:20230918T210000
DTSTAMP:20260421T061910
CREATED:20230913T131641Z
LAST-MODIFIED:20230914T141102Z
UID:502-1695063600-1695070800@winstonridge.org
SUMMARY:Social Committee Planning Meeting
DESCRIPTION:The Social Committee will have our monthly meeting. As we said at the Annual meeting tonight\, EVERYONE is welcome to join us. \nWe need YOUR help to plan events for our community. With so many volunteers\, our social calendar gets filled with so many different ideas. It literally takes a village\, a neighborhood\, to put all things together and put an event on. If we don’t’ have volunteers\, we can’t have diversified activities. This is a chance to meet your neighbors\, to put in ACTION what YOU want out of this community! \nAs we stated at the meeting\, we are looking also for NEW women and men to help lead us into the new year. Kim Kolar\, Donna Taylor Hill and I started this incredible committee (the FIRST one in Winston Ridge) almost 3 years ago. We need new friends to start the transition to building new leaders to continue our mission. We are here to help!
URL:https://winstonridge.org/event/social-committee-planning-meeting/
LOCATION:Plantation Pool House\, 104 Plantation Dr\, Youngsville\, NC\, 27696\, United States
CATEGORIES:Committee Meeting
END:VEVENT
END:VCALENDAR