BEGIN:VCALENDAR
VERSION:2.0
PRODID:-//Winston Ridge HOA, Inc. - ECPv6.15.20//NONSGML v1.0//EN
CALSCALE:GREGORIAN
METHOD:PUBLISH
X-WR-CALNAME:Winston Ridge HOA, Inc.
X-ORIGINAL-URL:https://winstonridge.org
X-WR-CALDESC:Events for Winston Ridge HOA, Inc.
REFRESH-INTERVAL;VALUE=DURATION:PT1H
X-Robots-Tag:noindex
X-PUBLISHED-TTL:PT1H
BEGIN:VTIMEZONE
TZID:America/New_York
BEGIN:DAYLIGHT
TZOFFSETFROM:-0500
TZOFFSETTO:-0400
TZNAME:EDT
DTSTART:20230312T070000
END:DAYLIGHT
BEGIN:STANDARD
TZOFFSETFROM:-0400
TZOFFSETTO:-0500
TZNAME:EST
DTSTART:20231105T060000
END:STANDARD
BEGIN:DAYLIGHT
TZOFFSETFROM:-0500
TZOFFSETTO:-0400
TZNAME:EDT
DTSTART:20240310T070000
END:DAYLIGHT
BEGIN:STANDARD
TZOFFSETFROM:-0400
TZOFFSETTO:-0500
TZNAME:EST
DTSTART:20241103T060000
END:STANDARD
BEGIN:DAYLIGHT
TZOFFSETFROM:-0500
TZOFFSETTO:-0400
TZNAME:EDT
DTSTART:20250309T070000
END:DAYLIGHT
BEGIN:STANDARD
TZOFFSETFROM:-0400
TZOFFSETTO:-0500
TZNAME:EST
DTSTART:20251102T060000
END:STANDARD
END:VTIMEZONE
BEGIN:VEVENT
DTSTART;TZID=America/New_York:20240103T183000
DTEND;TZID=America/New_York:20240103T200000
DTSTAMP:20260421T041808
CREATED:20240102T234258Z
LAST-MODIFIED:20240104T032338Z
UID:1832-1704306600-1704312000@winstonridge.org
SUMMARY:Landscaping Committee Meeting
DESCRIPTION:
URL:https://winstonridge.org/event/landscaping-committee-meeting/
LOCATION:Plantation Pool House\, 104 Plantation Dr\, Youngsville\, NC\, 27696\, United States
CATEGORIES:Committee Meeting,meeting
END:VEVENT
BEGIN:VEVENT
DTSTART;TZID=America/New_York:20240109T190000
DTEND;TZID=America/New_York:20240109T203000
DTSTAMP:20260421T041808
CREATED:20231104T020309Z
LAST-MODIFIED:20231104T020309Z
UID:1471-1704826800-1704832200@winstonridge.org
SUMMARY:Garden Club Meeting
DESCRIPTION:
URL:https://winstonridge.org/event/garden-club-meeting-4/
LOCATION:Plantation Pool House\, 104 Plantation Dr\, Youngsville\, NC\, 27696\, United States
CATEGORIES:meeting
END:VEVENT
BEGIN:VEVENT
DTSTART;TZID=America/New_York:20240110T130000
DTEND;TZID=America/New_York:20240110T150000
DTSTAMP:20260421T041808
CREATED:20231209T170619Z
LAST-MODIFIED:20231209T170619Z
UID:1675-1704891600-1704898800@winstonridge.org
SUMMARY:Social Committee Meeting
DESCRIPTION:Monthly Social Committee planning meeting
URL:https://winstonridge.org/event/social-committee-meeting-2/
LOCATION:Plantation Pool House\, 104 Plantation Dr\, Youngsville\, NC\, 27696\, United States
CATEGORIES:Committee Meeting
END:VEVENT
BEGIN:VEVENT
DTSTART;TZID=America/New_York:20240110T180000
DTEND;TZID=America/New_York:20240110T183000
DTSTAMP:20260421T041808
CREATED:20231010T130901Z
LAST-MODIFIED:20231102T021324Z
UID:918-1704909600-1704911400@winstonridge.org
SUMMARY:Veterans Group Meeting
DESCRIPTION:
URL:https://winstonridge.org/event/veterans-club-meeting-5/
LOCATION:Plantation Pool House\, 104 Plantation Dr\, Youngsville\, NC\, 27696\, United States
CATEGORIES:meeting
END:VEVENT
BEGIN:VEVENT
DTSTART;TZID=America/New_York:20240116T190000
DTEND;TZID=America/New_York:20240116T210000
DTSTAMP:20260421T041808
CREATED:20230913T162557Z
LAST-MODIFIED:20230913T162813Z
UID:545-1705431600-1705438800@winstonridge.org
SUMMARY:HOA Board Meeting
DESCRIPTION:
URL:https://winstonridge.org/event/hoa-board-meeting/
LOCATION:Plantation Pool House\, 104 Plantation Dr\, Youngsville\, NC\, 27696\, United States
CATEGORIES:Board Meeting
END:VEVENT
END:VCALENDAR